BEGIN:VCALENDAR
VERSION:2.0
PRODID:-//GBS Klavertje Vier - ECPv6.0.12//NONSGML v1.0//EN
CALSCALE:GREGORIAN
METHOD:PUBLISH
X-ORIGINAL-URL:https://www.gbsklavertjevier.be
X-WR-CALDESC:Evenementen voor GBS Klavertje Vier
REFRESH-INTERVAL;VALUE=DURATION:PT1H
X-Robots-Tag:noindex
X-PUBLISHED-TTL:PT1H
BEGIN:VTIMEZONE
TZID:Europe/Brussels
BEGIN:DAYLIGHT
TZOFFSETFROM:+0100
TZOFFSETTO:+0200
TZNAME:CEST
DTSTART:20260329T010000
END:DAYLIGHT
BEGIN:STANDARD
TZOFFSETFROM:+0200
TZOFFSETTO:+0100
TZNAME:CET
DTSTART:20261025T010000
END:STANDARD
END:VTIMEZONE
BEGIN:VEVENT
DTSTART;VALUE=DATE:20260205
DTEND;VALUE=DATE:20260206
DTSTAMP:20260419T190532
CREATED:20250501T001649Z
LAST-MODIFIED:20260205T184643Z
UID:10000167-1770249600-1770335999@www.gbsklavertjevier.be
SUMMARY:#iktrekhetmijaan
DESCRIPTION:
URL:https://www.gbsklavertjevier.be/evenement/iktrekhetmijaan/
END:VEVENT
BEGIN:VEVENT
DTSTART;VALUE=DATE:20260213
DTEND;VALUE=DATE:20260214
DTSTAMP:20260419T190532
CREATED:20250606T064723Z
LAST-MODIFIED:20260213T191710Z
UID:10000214-1770940800-1771027199@www.gbsklavertjevier.be
SUMMARY:Carnaval op school
DESCRIPTION:
URL:https://www.gbsklavertjevier.be/evenement/carnaval-op-school-2/
END:VEVENT
BEGIN:VEVENT
DTSTART;VALUE=DATE:20260216
DTEND;VALUE=DATE:20260221
DTSTAMP:20260419T190532
CREATED:20250606T064723Z
LAST-MODIFIED:20260220T193145Z
UID:10000215-1771200000-1771631999@www.gbsklavertjevier.be
SUMMARY:Krokusvakantie - opvang open
DESCRIPTION:
URL:https://www.gbsklavertjevier.be/evenement/krokusvakantie-opvang-open/
END:VEVENT
BEGIN:VEVENT
DTSTART;VALUE=DATE:20260224
DTEND;VALUE=DATE:20260225
DTSTAMP:20260419T190532
CREATED:20250901T103210Z
LAST-MODIFIED:20260224T193230Z
UID:10000253-1771891200-1771977599@www.gbsklavertjevier.be
SUMMARY:L1A + deel 1LB CLB
DESCRIPTION:
URL:https://www.gbsklavertjevier.be/evenement/l1a-deel-1lb-clb/
END:VEVENT
BEGIN:VEVENT
DTSTART;TZID=Europe/Brussels:20260226T083000
DTEND;TZID=Europe/Brussels:20260226T120000
DTSTAMP:20260419T190532
CREATED:20250901T103211Z
LAST-MODIFIED:20260225T194658Z
UID:10000254-1772094600-1772107200@www.gbsklavertjevier.be
SUMMARY:L6 naar CLB
DESCRIPTION:
URL:https://www.gbsklavertjevier.be/evenement/l6-naar-clb/
END:VEVENT
BEGIN:VEVENT
DTSTART;TZID=Europe/Brussels:20260227T083000
DTEND;TZID=Europe/Brussels:20260227T120000
DTSTAMP:20260419T190532
CREATED:20250901T103211Z
LAST-MODIFIED:20260226T200213Z
UID:10000255-1772181000-1772193600@www.gbsklavertjevier.be
SUMMARY:L1B CLB
DESCRIPTION:
URL:https://www.gbsklavertjevier.be/evenement/l1b-clb/
END:VEVENT
END:VCALENDAR