BEGIN:VCALENDAR
VERSION:2.0
PRODID:-//GBS Klavertje Vier - ECPv6.0.12//NONSGML v1.0//EN
CALSCALE:GREGORIAN
METHOD:PUBLISH
X-ORIGINAL-URL:https://www.gbsklavertjevier.be
X-WR-CALDESC:Evenementen voor GBS Klavertje Vier
REFRESH-INTERVAL;VALUE=DURATION:PT1H
X-Robots-Tag:noindex
X-PUBLISHED-TTL:PT1H
BEGIN:VTIMEZONE
TZID:Europe/Brussels
BEGIN:DAYLIGHT
TZOFFSETFROM:+0100
TZOFFSETTO:+0200
TZNAME:CEST
DTSTART:20250330T010000
END:DAYLIGHT
BEGIN:STANDARD
TZOFFSETFROM:+0200
TZOFFSETTO:+0100
TZNAME:CET
DTSTART:20251026T010000
END:STANDARD
END:VTIMEZONE
BEGIN:VEVENT
DTSTART;VALUE=DATE:20251004
DTEND;VALUE=DATE:20251005
DTSTAMP:20260420T025105
CREATED:20250606T064719Z
LAST-MODIFIED:20251004T120141Z
UID:10000201-1759536000-1759622399@www.gbsklavertjevier.be
SUMMARY:Obstacle run
DESCRIPTION:
URL:https://www.gbsklavertjevier.be/evenement/obstacle-run-3/
END:VEVENT
BEGIN:VEVENT
DTSTART;VALUE=DATE:20251006
DTEND;VALUE=DATE:20251011
DTSTAMP:20260420T025105
CREATED:20250501T001648Z
LAST-MODIFIED:20251010T121656Z
UID:10000166-1759708800-1760140799@www.gbsklavertjevier.be
SUMMARY:week van het bos en week van de Mooimakers
DESCRIPTION:
URL:https://www.gbsklavertjevier.be/evenement/week-van-het-bos-en-week-van-de-mooimakers/
END:VEVENT
BEGIN:VEVENT
DTSTART;VALUE=DATE:20251007
DTEND;VALUE=DATE:20251008
DTSTAMP:20260420T025105
CREATED:20250910T104646Z
LAST-MODIFIED:20251007T121659Z
UID:10000263-1759795200-1759881599@www.gbsklavertjevier.be
SUMMARY:Sportdag lager
DESCRIPTION:
URL:https://www.gbsklavertjevier.be/evenement/sportdag-lager/
END:VEVENT
BEGIN:VEVENT
DTSTART;VALUE=DATE:20251009
DTEND;VALUE=DATE:20251010
DTSTAMP:20260420T025105
CREATED:20250604T064935Z
LAST-MODIFIED:20251009T121649Z
UID:10000177-1759968000-1760054399@www.gbsklavertjevier.be
SUMMARY:Muziektheater Bombardon "Winter slaapt" 1 e graad
DESCRIPTION:
URL:https://www.gbsklavertjevier.be/evenement/muziektheater-bombardon-winter-slaapt-1-e-graad/
END:VEVENT
BEGIN:VEVENT
DTSTART;VALUE=DATE:20251010
DTEND;VALUE=DATE:20251011
DTSTAMP:20260420T025105
CREATED:20250606T064720Z
LAST-MODIFIED:20251010T121656Z
UID:10000202-1760054400-1760140799@www.gbsklavertjevier.be
SUMMARY:Pedagogische studiedag - opvang open
DESCRIPTION:
URL:https://www.gbsklavertjevier.be/evenement/pedagogische-studiedag/
END:VEVENT
BEGIN:VEVENT
DTSTART;VALUE=DATE:20251023
DTEND;VALUE=DATE:20251024
DTSTAMP:20260420T025105
CREATED:20250604T064936Z
LAST-MODIFIED:20251023T124631Z
UID:10000178-1761177600-1761263999@www.gbsklavertjevier.be
SUMMARY:Tweelicht en zoon "de Chinese Prachtegaal"  3e graad
DESCRIPTION:
URL:https://www.gbsklavertjevier.be/evenement/tweelicht-en-zoon-de-chinese-prachtegaal-3e-graad/
END:VEVENT
BEGIN:VEVENT
DTSTART;VALUE=DATE:20251027
DTEND;VALUE=DATE:20251101
DTSTAMP:20260420T025105
CREATED:20250606T064720Z
LAST-MODIFIED:20251031T130141Z
UID:10000203-1761523200-1761955199@www.gbsklavertjevier.be
SUMMARY:herfstvakantie  opvang is open
DESCRIPTION:
URL:https://www.gbsklavertjevier.be/evenement/herfstvakantie-opvang-is-open-2/
END:VEVENT
END:VCALENDAR