BEGIN:VCALENDAR
VERSION:2.0
PRODID:-//GBS Klavertje Vier - ECPv6.0.12//NONSGML v1.0//EN
CALSCALE:GREGORIAN
METHOD:PUBLISH
X-WR-CALNAME:GBS Klavertje Vier
X-ORIGINAL-URL:https://www.gbsklavertjevier.be
X-WR-CALDESC:Evenementen voor GBS Klavertje Vier
REFRESH-INTERVAL;VALUE=DURATION:PT1H
X-Robots-Tag:noindex
X-PUBLISHED-TTL:PT1H
BEGIN:VTIMEZONE
TZID:Europe/Brussels
BEGIN:DAYLIGHT
TZOFFSETFROM:+0100
TZOFFSETTO:+0200
TZNAME:CEST
DTSTART:20250330T010000
END:DAYLIGHT
BEGIN:STANDARD
TZOFFSETFROM:+0200
TZOFFSETTO:+0100
TZNAME:CET
DTSTART:20251026T010000
END:STANDARD
END:VTIMEZONE
BEGIN:VEVENT
DTSTART;VALUE=DATE:20250701
DTEND;VALUE=DATE:20250705
DTSTAMP:20260420T062650
CREATED:20250606T064717Z
LAST-MODIFIED:20250704T074638Z
UID:10000193-1751328000-1751673599@www.gbsklavertjevier.be
SUMMARY:Zomervakantie - opvang open
DESCRIPTION:
URL:https://www.gbsklavertjevier.be/evenement/zomervakantie-opvang-open/
END:VEVENT
BEGIN:VEVENT
DTSTART;VALUE=DATE:20250707
DTEND;VALUE=DATE:20250711
DTSTAMP:20260420T062650
CREATED:20250606T064718Z
LAST-MODIFIED:20250710T074708Z
UID:10000194-1751846400-1752191999@www.gbsklavertjevier.be
SUMMARY:Zomervakantie - opvang open
DESCRIPTION:
URL:https://www.gbsklavertjevier.be/evenement/zomervakantie-opvang-open-2/
END:VEVENT
BEGIN:VEVENT
DTSTART;VALUE=DATE:20250707
DTEND;VALUE=DATE:20250712
DTSTAMP:20260420T062650
CREATED:20240911T193137Z
LAST-MODIFIED:20250711T074657Z
UID:10000145-1751846400-1752278399@www.gbsklavertjevier.be
SUMMARY:zomerscholen
DESCRIPTION:
URL:https://www.gbsklavertjevier.be/evenement/zomerscholen/
END:VEVENT
BEGIN:VEVENT
DTSTART;VALUE=DATE:20250714
DTEND;VALUE=DATE:20250719
DTSTAMP:20260420T062650
CREATED:20250606T064718Z
LAST-MODIFIED:20250718T080145Z
UID:10000195-1752451200-1752883199@www.gbsklavertjevier.be
SUMMARY:Zomervakantie - opvang open
DESCRIPTION:
URL:https://www.gbsklavertjevier.be/evenement/zomervakantie-opvang-open-3/
END:VEVENT
BEGIN:VEVENT
DTSTART;VALUE=DATE:20250721
DTEND;VALUE=DATE:20250726
DTSTAMP:20260420T062650
CREATED:20250606T064718Z
LAST-MODIFIED:20250725T080151Z
UID:10000196-1753056000-1753487999@www.gbsklavertjevier.be
SUMMARY:Zomervakantie : opvang gesloten
DESCRIPTION:
URL:https://www.gbsklavertjevier.be/evenement/zomervakantie-opvang-gesloten/
END:VEVENT
BEGIN:VEVENT
DTSTART;VALUE=DATE:20250728
DTEND;VALUE=DATE:20250802
DTSTAMP:20260420T062650
CREATED:20250606T064718Z
LAST-MODIFIED:20250801T081640Z
UID:10000197-1753660800-1754092799@www.gbsklavertjevier.be
SUMMARY:Zomervakantie - opvang gesloten
DESCRIPTION:
URL:https://www.gbsklavertjevier.be/evenement/zomervakantie-opvang-gesloten-2/
END:VEVENT
END:VCALENDAR