BEGIN:VCALENDAR
VERSION:2.0
PRODID:-//GBS Klavertje Vier - ECPv6.0.12//NONSGML v1.0//EN
CALSCALE:GREGORIAN
METHOD:PUBLISH
X-ORIGINAL-URL:https://www.gbsklavertjevier.be
X-WR-CALDESC:Evenementen voor GBS Klavertje Vier
REFRESH-INTERVAL;VALUE=DURATION:PT1H
X-Robots-Tag:noindex
X-PUBLISHED-TTL:PT1H
BEGIN:VTIMEZONE
TZID:Europe/Brussels
BEGIN:DAYLIGHT
TZOFFSETFROM:+0100
TZOFFSETTO:+0200
TZNAME:CEST
DTSTART:20250330T010000
END:DAYLIGHT
BEGIN:STANDARD
TZOFFSETFROM:+0200
TZOFFSETTO:+0100
TZNAME:CET
DTSTART:20251026T010000
END:STANDARD
END:VTIMEZONE
BEGIN:VEVENT
DTSTART;VALUE=DATE:20250327
DTEND;VALUE=DATE:20250328
DTSTAMP:20260420T124957
CREATED:20250210T220225Z
LAST-MODIFIED:20250327T231633Z
UID:10000156-1743033600-1743119999@www.gbsklavertjevier.be
SUMMARY:sober maal - lagere afdeling
DESCRIPTION:
URL:https://www.gbsklavertjevier.be/evenement/sober-maal-lagere-afdeling/
END:VEVENT
BEGIN:VEVENT
DTSTART;TZID=Europe/Brussels:20250329T140000
DTEND;TZID=Europe/Brussels:20250329T180000
DTSTAMP:20260420T124957
CREATED:20240607T064655Z
LAST-MODIFIED:20250328T231718Z
UID:10000139-1743256800-1743271200@www.gbsklavertjevier.be
SUMMARY:kinderfuif
DESCRIPTION:
URL:https://www.gbsklavertjevier.be/evenement/kinderfuif/
END:VEVENT
END:VCALENDAR