BEGIN:VCALENDAR
VERSION:2.0
PRODID:-//GBS Klavertje Vier - ECPv6.0.12//NONSGML v1.0//EN
CALSCALE:GREGORIAN
METHOD:PUBLISH
X-ORIGINAL-URL:https://www.gbsklavertjevier.be
X-WR-CALDESC:Evenementen voor GBS Klavertje Vier
REFRESH-INTERVAL;VALUE=DURATION:PT1H
X-Robots-Tag:noindex
X-PUBLISHED-TTL:PT1H
BEGIN:VTIMEZONE
TZID:Europe/Brussels
BEGIN:DAYLIGHT
TZOFFSETFROM:+0100
TZOFFSETTO:+0200
TZNAME:CEST
DTSTART:20250330T010000
END:DAYLIGHT
BEGIN:STANDARD
TZOFFSETFROM:+0200
TZOFFSETTO:+0100
TZNAME:CET
DTSTART:20251026T010000
END:STANDARD
END:VTIMEZONE
BEGIN:VEVENT
DTSTART;TZID=Europe/Brussels:20250110T003000
DTEND;TZID=Europe/Brussels:20250117T013000
DTSTAMP:20260420T155216
CREATED:20241115T210158Z
LAST-MODIFIED:20250116T213214Z
UID:10000149-1736469000-1737077400@www.gbsklavertjevier.be
SUMMARY:START VAN DE EXAMENS BB
DESCRIPTION:
URL:https://www.gbsklavertjevier.be/evenement/start-van-de-examens-bb/
END:VEVENT
BEGIN:VEVENT
DTSTART;TZID=Europe/Brussels:20250121T160000
DTEND;TZID=Europe/Brussels:20250121T220000
DTSTAMP:20260420T155216
CREATED:20241217T213141Z
LAST-MODIFIED:20250120T214647Z
UID:10000154-1737475200-1737496800@www.gbsklavertjevier.be
SUMMARY:oudercontacten
DESCRIPTION:
URL:https://www.gbsklavertjevier.be/evenement/oudercontacten-8/
END:VEVENT
BEGIN:VEVENT
DTSTART;TZID=Europe/Brussels:20250122T120000
DTEND;TZID=Europe/Brussels:20250122T210000
DTSTAMP:20260420T155216
CREATED:20241217T213142Z
LAST-MODIFIED:20250121T214645Z
UID:10000155-1737547200-1737579600@www.gbsklavertjevier.be
SUMMARY:oudercontacten
DESCRIPTION:
URL:https://www.gbsklavertjevier.be/evenement/oudercontacten-9/
END:VEVENT
END:VCALENDAR