BEGIN:VCALENDAR
VERSION:2.0
PRODID:-//GBS Klavertje Vier - ECPv6.0.12//NONSGML v1.0//EN
CALSCALE:GREGORIAN
METHOD:PUBLISH
X-ORIGINAL-URL:https://www.gbsklavertjevier.be
X-WR-CALDESC:Evenementen voor GBS Klavertje Vier
REFRESH-INTERVAL;VALUE=DURATION:PT1H
X-Robots-Tag:noindex
X-PUBLISHED-TTL:PT1H
BEGIN:VTIMEZONE
TZID:Europe/Brussels
BEGIN:DAYLIGHT
TZOFFSETFROM:+0100
TZOFFSETTO:+0200
TZNAME:CEST
DTSTART:20260329T010000
END:DAYLIGHT
BEGIN:STANDARD
TZOFFSETFROM:+0200
TZOFFSETTO:+0100
TZNAME:CET
DTSTART:20261025T010000
END:STANDARD
END:VTIMEZONE
BEGIN:VEVENT
DTSTART;TZID=Europe/Brussels:20260322T083000
DTEND;TZID=Europe/Brussels:20260322T123000
DTSTAMP:20260419T171502
CREATED:20250606T064724Z
LAST-MODIFIED:20260321T210150Z
UID:10000217-1774168200-1774182600@www.gbsklavertjevier.be
SUMMARY:Infomoment nieuwe peuters
DESCRIPTION:
URL:https://www.gbsklavertjevier.be/evenement/infomoment-nieuwe-peuters/
END:VEVENT
END:VCALENDAR