BEGIN:VCALENDAR
VERSION:2.0
PRODID:-//GBS Klavertje Vier - ECPv6.0.12//NONSGML v1.0//EN
CALSCALE:GREGORIAN
METHOD:PUBLISH
X-WR-CALNAME:GBS Klavertje Vier
X-ORIGINAL-URL:https://www.gbsklavertjevier.be
X-WR-CALDESC:Evenementen voor GBS Klavertje Vier
REFRESH-INTERVAL;VALUE=DURATION:PT1H
X-Robots-Tag:noindex
X-PUBLISHED-TTL:PT1H
BEGIN:VTIMEZONE
TZID:Europe/Brussels
BEGIN:DAYLIGHT
TZOFFSETFROM:+0100
TZOFFSETTO:+0200
TZNAME:CEST
DTSTART:20260329T010000
END:DAYLIGHT
BEGIN:STANDARD
TZOFFSETFROM:+0200
TZOFFSETTO:+0100
TZNAME:CET
DTSTART:20261025T010000
END:STANDARD
END:VTIMEZONE
BEGIN:VEVENT
DTSTART;TZID=Europe/Brussels:20260306T083000
DTEND;TZID=Europe/Brussels:20260306T120000
DTSTAMP:20260419T171152
CREATED:20250901T103211Z
LAST-MODIFIED:20260305T200211Z
UID:10000257-1772785800-1772798400@www.gbsklavertjevier.be
SUMMARY:Vaccinaties L1 en L4 op school
DESCRIPTION:
URL:https://www.gbsklavertjevier.be/evenement/vaccinaties-l1-en-l4-op-school/
END:VEVENT
END:VCALENDAR