BEGIN:VCALENDAR
VERSION:2.0
PRODID:-//GBS Klavertje Vier - ECPv6.0.12//NONSGML v1.0//EN
CALSCALE:GREGORIAN
METHOD:PUBLISH
X-WR-CALNAME:GBS Klavertje Vier
X-ORIGINAL-URL:https://www.gbsklavertjevier.be
X-WR-CALDESC:Evenementen voor GBS Klavertje Vier
REFRESH-INTERVAL;VALUE=DURATION:PT1H
X-Robots-Tag:noindex
X-PUBLISHED-TTL:PT1H
BEGIN:VTIMEZONE
TZID:Europe/Brussels
BEGIN:DAYLIGHT
TZOFFSETFROM:+0100
TZOFFSETTO:+0200
TZNAME:CEST
DTSTART:20250330T010000
END:DAYLIGHT
BEGIN:STANDARD
TZOFFSETFROM:+0200
TZOFFSETTO:+0100
TZNAME:CET
DTSTART:20251026T010000
END:STANDARD
END:VTIMEZONE
BEGIN:VEVENT
DTSTART;VALUE=DATE:20251106
DTEND;VALUE=DATE:20251107
DTSTAMP:20260420T004528
CREATED:20250604T064936Z
LAST-MODIFIED:20251106T130206Z
UID:10000179-1762387200-1762473599@www.gbsklavertjevier.be
SUMMARY:Salibonani "Emilio's nachtwinkel" 2e graad
DESCRIPTION:
URL:https://www.gbsklavertjevier.be/evenement/salibonani-emilios-nachtwinkel-2e-graad/
END:VEVENT
END:VCALENDAR