BEGIN:VCALENDAR
VERSION:2.0
PRODID:-//GBS Klavertje Vier - ECPv6.0.12//NONSGML v1.0//EN
CALSCALE:GREGORIAN
METHOD:PUBLISH
X-ORIGINAL-URL:https://www.gbsklavertjevier.be
X-WR-CALDESC:Evenementen voor GBS Klavertje Vier
REFRESH-INTERVAL;VALUE=DURATION:PT1H
X-Robots-Tag:noindex
X-PUBLISHED-TTL:PT1H
BEGIN:VTIMEZONE
TZID:Europe/Brussels
BEGIN:DAYLIGHT
TZOFFSETFROM:+0100
TZOFFSETTO:+0200
TZNAME:CEST
DTSTART:20250330T010000
END:DAYLIGHT
BEGIN:STANDARD
TZOFFSETFROM:+0200
TZOFFSETTO:+0100
TZNAME:CET
DTSTART:20251026T010000
END:STANDARD
END:VTIMEZONE
BEGIN:VEVENT
DTSTART;TZID=Europe/Brussels:20250911T201500
DTEND;TZID=Europe/Brussels:20250911T221500
DTSTAMP:20260420T045000
CREATED:20250613T071653Z
LAST-MODIFIED:20250911T104645Z
UID:10000252-1757621700-1757628900@www.gbsklavertjevier.be
SUMMARY:vergadering ouderraad
DESCRIPTION:
URL:https://www.gbsklavertjevier.be/evenement/vergadering-ouderraad/
END:VEVENT
END:VCALENDAR