BEGIN:VCALENDAR
VERSION:2.0
PRODID:-//GBS Klavertje Vier - ECPv6.0.12//NONSGML v1.0//EN
CALSCALE:GREGORIAN
METHOD:PUBLISH
X-WR-CALNAME:GBS Klavertje Vier
X-ORIGINAL-URL:https://www.gbsklavertjevier.be
X-WR-CALDESC:Evenementen voor GBS Klavertje Vier
REFRESH-INTERVAL;VALUE=DURATION:PT1H
X-Robots-Tag:noindex
X-PUBLISHED-TTL:PT1H
BEGIN:VTIMEZONE
TZID:Europe/Brussels
BEGIN:DAYLIGHT
TZOFFSETFROM:+0100
TZOFFSETTO:+0200
TZNAME:CEST
DTSTART:20250330T010000
END:DAYLIGHT
BEGIN:STANDARD
TZOFFSETFROM:+0200
TZOFFSETTO:+0100
TZNAME:CET
DTSTART:20251026T010000
END:STANDARD
END:VTIMEZONE
BEGIN:VEVENT
DTSTART;TZID=Europe/Brussels:20250630T083000
DTEND;TZID=Europe/Brussels:20250630T120000
DTSTAMP:20260420T075659
CREATED:20250612T070603Z
LAST-MODIFIED:20250630T074635Z
UID:10000251-1751272200-1751284800@www.gbsklavertjevier.be
SUMMARY:LAATSTE  HALVE SCHOOLDAG 11u50 - Opvang is open
DESCRIPTION:
URL:https://www.gbsklavertjevier.be/evenement/laatste-halve-schooldag-11u50-opvang-is-open/
END:VEVENT
END:VCALENDAR