BEGIN:VCALENDAR
VERSION:2.0
PRODID:-//GBS Klavertje Vier - ECPv6.0.12//NONSGML v1.0//EN
CALSCALE:GREGORIAN
METHOD:PUBLISH
X-ORIGINAL-URL:https://www.gbsklavertjevier.be
X-WR-CALDESC:Evenementen voor GBS Klavertje Vier
REFRESH-INTERVAL;VALUE=DURATION:PT1H
X-Robots-Tag:noindex
X-PUBLISHED-TTL:PT1H
BEGIN:VTIMEZONE
TZID:Europe/Brussels
BEGIN:DAYLIGHT
TZOFFSETFROM:+0100
TZOFFSETTO:+0200
TZNAME:CEST
DTSTART:20250330T010000
END:DAYLIGHT
BEGIN:STANDARD
TZOFFSETFROM:+0200
TZOFFSETTO:+0100
TZNAME:CET
DTSTART:20251026T010000
END:STANDARD
END:VTIMEZONE
BEGIN:VEVENT
DTSTART;TZID=Europe/Brussels:20250624T160000
DTEND;TZID=Europe/Brussels:20250625T210000
DTSTAMP:20260420T094015
CREATED:20250224T223150Z
LAST-MODIFIED:20250603T135900Z
UID:10000161-1750780800-1750885200@www.gbsklavertjevier.be
SUMMARY:OUDERCONTACTEN
DESCRIPTION:
URL:https://www.gbsklavertjevier.be/evenement/oudercontacten-12/
END:VEVENT
BEGIN:VEVENT
DTSTART;TZID=Europe/Brussels:20250625T114500
DTEND;TZID=Europe/Brussels:20250625T161500
DTSTAMP:20260420T094015
CREATED:20250605T064653Z
LAST-MODIFIED:20250625T073202Z
UID:10000185-1750851900-1750868100@www.gbsklavertjevier.be
SUMMARY:Oudercontacten
DESCRIPTION:
URL:https://www.gbsklavertjevier.be/evenement/oudercontacten-14/
END:VEVENT
BEGIN:VEVENT
DTSTART;TZID=Europe/Brussels:20250625T173000
DTEND;TZID=Europe/Brussels:20250625T190000
DTSTAMP:20260420T094015
CREATED:20250224T223151Z
LAST-MODIFIED:20250625T073202Z
UID:10000162-1750872600-1750878000@www.gbsklavertjevier.be
SUMMARY:Feest K3
DESCRIPTION:
URL:https://www.gbsklavertjevier.be/evenement/feest-k3-en-l6/
END:VEVENT
BEGIN:VEVENT
DTSTART;TZID=Europe/Brussels:20250625T190000
DTEND;TZID=Europe/Brussels:20250625T203000
DTSTAMP:20260420T094015
CREATED:20250522T010138Z
LAST-MODIFIED:20250625T073202Z
UID:10000173-1750878000-1750883400@www.gbsklavertjevier.be
SUMMARY:Feest 6de leerjaar
DESCRIPTION:
URL:https://www.gbsklavertjevier.be/evenement/feest-6de-leerjaar/
END:VEVENT
BEGIN:VEVENT
DTSTART;TZID=Europe/Brussels:20250625T190000
DTEND;TZID=Europe/Brussels:20250625T203000
DTSTAMP:20260420T094015
CREATED:20250522T010138Z
LAST-MODIFIED:20250522T010138Z
UID:10000172-1750878000-1750883400@www.gbsklavertjevier.be
SUMMARY:Feest 6de leerjaar
DESCRIPTION:
URL:https://www.gbsklavertjevier.be/evenement/feest-6de-leerjaar-2/
END:VEVENT
END:VCALENDAR