BEGIN:VCALENDAR
VERSION:2.0
PRODID:-//GBS Klavertje Vier - ECPv6.0.12//NONSGML v1.0//EN
CALSCALE:GREGORIAN
METHOD:PUBLISH
X-WR-CALNAME:GBS Klavertje Vier
X-ORIGINAL-URL:https://www.gbsklavertjevier.be
X-WR-CALDESC:Evenementen voor GBS Klavertje Vier
REFRESH-INTERVAL;VALUE=DURATION:PT1H
X-Robots-Tag:noindex
X-PUBLISHED-TTL:PT1H
BEGIN:VTIMEZONE
TZID:Europe/Brussels
BEGIN:DAYLIGHT
TZOFFSETFROM:+0100
TZOFFSETTO:+0200
TZNAME:CEST
DTSTART:20250330T010000
END:DAYLIGHT
BEGIN:STANDARD
TZOFFSETFROM:+0200
TZOFFSETTO:+0100
TZNAME:CET
DTSTART:20251026T010000
END:STANDARD
END:VTIMEZONE
BEGIN:VEVENT
DTSTART;VALUE=DATE:20250624
DTEND;VALUE=DATE:20250625
DTSTAMP:20260420T093617
CREATED:20240617T170207Z
LAST-MODIFIED:20250223T221636Z
UID:10000140-1750723200-1750809599@www.gbsklavertjevier.be
SUMMARY:Pardoes
DESCRIPTION:Pardoes voor alle leerlingen
URL:https://www.gbsklavertjevier.be/evenement/pardoes-4/
END:VEVENT
BEGIN:VEVENT
DTSTART;VALUE=DATE:20250624
DTEND;VALUE=DATE:20250625
DTSTAMP:20260420T093617
CREATED:20250224T223150Z
LAST-MODIFIED:20250624T073142Z
UID:10000160-1750723200-1750809599@www.gbsklavertjevier.be
SUMMARY:Pardoes
DESCRIPTION:Pardoes voor alle leerlingen
URL:https://www.gbsklavertjevier.be/evenement/pardoes-5/
END:VEVENT
BEGIN:VEVENT
DTSTART;TZID=Europe/Brussels:20250624T160000
DTEND;TZID=Europe/Brussels:20250624T210000
DTSTAMP:20260420T093617
CREATED:20250604T064934Z
LAST-MODIFIED:20250624T073142Z
UID:10000176-1750780800-1750798800@www.gbsklavertjevier.be
SUMMARY:Oudercontacten
DESCRIPTION:
URL:https://www.gbsklavertjevier.be/evenement/oudercontacten-13/
END:VEVENT
BEGIN:VEVENT
DTSTART;TZID=Europe/Brussels:20250624T160000
DTEND;TZID=Europe/Brussels:20250625T210000
DTSTAMP:20260420T093617
CREATED:20250224T223150Z
LAST-MODIFIED:20250603T135900Z
UID:10000161-1750780800-1750885200@www.gbsklavertjevier.be
SUMMARY:OUDERCONTACTEN
DESCRIPTION:
URL:https://www.gbsklavertjevier.be/evenement/oudercontacten-12/
END:VEVENT
END:VCALENDAR